Workbook

Sheet MIR
A1: MATRIZ DE INDICADORES DE RESULTADOS - EJERCICIO 2021
A2: DATOS DEL PROGRAMA
A3: Clave | B3: Nombre del Programa | J3: Eje Rector del PMD | O3: Unidad responsable (Dependencia u Organismo)
J4: Número | K4: Nombre del eje rector | O4: Clave | P4: Nombre de la unidad
A5: 022 | B5: TRANSITO MUNICIPAL | J5: 01 | K5: SEGURIDAD Y PROTECCIÓN PARA TODOS LOS CIUDADANOS | O5: 11 | P5: JEFATURA DE POLICIA PREVENTIVA Y TRANSITO MUNICIPAL
A6: Objetivo estratégico del programa | G6: Asegurar la integridad fisica, patrimonial y legal de las personas que transiten en las vialidades del municipio
A7: NIVEL | B7: OBJETIVOS | H7: INDICADORES | P7: MEDIOS DE VERIFICACIÓN | Q7: SUPUESTOS
A10: Fin | B10: Contribuir a garantizar la seguridad y protección física, patrimonial y legal en el municipio mediante la aplicación del reglamento de tránsito | H10: Tasa de variación anual porcentual de la Calificación de la percepción ciudadana del servicio de la policía municipal de Guaymas | P10: ISAF: Evaluación anual de la Percepión de los Servicios Públicos. https://isaf.gob.mx/encuestas/ | Q10: Los tres niveles de gobierno participan activamente en las tareas coordinadas. Contar con el presupuesto, recursos humanos y materiales en tiempo y cantidad suficiente
A11: Propósito = Programa | B11: Los transeúntes se trasladan en las vialidades del municipio con facilidad y seguridad | H11: Tasa de variacion anual de accidentes viales | P11: Parte de novedades diario elaborado por el Departamento de Tránsito | Q11: Recibir el presupuesto suficiente y en tiempo para contar con patrullas, equipo de transporte, equipo y elementos policiacos. Los conductores de vehiculos y los peatones acatan el reglamento de tránsito.
A12: Componente 1 | B12: El reglamento de tránsito es difundido, implementado y acatado por los transeúntes de a pie y en vehículos | H12: Tasa de variacion anual en aplicación de sanciones | P12: Parte de novedades diario e informe del rol de servicio rol de servicio elaboradas por el Departamento de Tránsito | Q12: Recibir el presupuesto suficiente y en tiempo para contar con los elementos suficiente y bien capacitados
A13: Actividad 1.1 | B13: Realizar recorridos de vigilancia para ordenar la circulación de transeúntes y vehículos, y reforzar el cumplimiento del reglamento de tránsito | H13: Porcentaje de Recorridos de vigilancia realizados para ordenar el transito de vehículos y peatones | P13: Parte de novedades diario y bitacoras elaboradas por el Departamento de Tránsito | Q13: Recibir el presupuesto suficiente y en tiempo para contar con patrullas, equipo de transporte, equipo y elementos policiacos
A14: Actividad 1.2 | B14: Sancionar a los infractores ante el incumplimiento del reglamento de tránsito | H14: Porcentaje de informes elaborados de sanciones aplicadas a infractores del reglamento de transito | P14: Parte de novedades diario elaborado por el Departamento de Tránsito | Q14: Recibir el presupuesto suficiente y en tiempo para contar con patrullas, equipo de transporte, equipo y elementos policiacos
A15: Actividad 1.3 | B15: Realizar trabajos de balizamiento para dar certidumbre y facilidad del transito | H15: Porcentaje de informes realizados de trabajos de balizamiento | P15: Informe diario de actividades elaborado por el Departamento de Tránsito | Q15: Recibir el presupuesto suficiente y en tiempo para contar con materales y equipo suficiente para la realizacion de los trabajos de balizamiento
A16: Actividad 1.4 | B16: Colocación y conservación de indicadores de tránsito en calles y avenidas | H16: Porcentaje de informes realizados de conservación de indicadores de tránsito | P16: Informe diario de actividades elaborado por el Departamento de Tránsito | Q16: Recibir el presupuesto suficiente y en tiempo para contar con materiales y personal capacitado para la realizacion de trabajos
A17: Actividad 1.5 | B17: Conservación , instalación y mantenimiento de semaforos | H17: Porcentaje de informes realizados de la conservación de semaforos | P17: Informe diario de actividades elaborado por el Departamento de Tránsito | Q17: Recibir el p+P5resupuesto suficiente y en tiempo para contar con materiales, controles de carga, tarjeta GIS, tarjeta CPU, para mejorar su funcionamiento
F23: Elaboró | O23: Revisó y valido

Sheet FIN
A1: FICHA TÉCNICA DE INDICADOR - EJERCICIO 2021
A3: IDENTIFICACIÓN DEL PROGRAMA
A5: Clave | B5: Nombre del Programa | J5: Eje Rector del PMD | O5: Unidad responsable (Dependencia u Organismo)
J6: Número | K6: Nombre | O6: Clave | P6: Nombre
A7: =+MIR!A5 -> 022 | B7: =+MIR!B5 -> TRANSITO MUNICIPAL | J7: =+MIR!J5 -> 01 | K7: =+MIR!K5 -> SEGURIDAD Y PROTECCIÓN PARA TODOS LOS CIUDADANOS | O7: =+MIR!O5 -> 11 | P7: =+MIR!P5 -> JEFATURA DE POLICIA PREVENTIVA Y TRANSITO MUNICIPAL
A8: Objetivo estratégico del Programa | F8: =+MIR!G6 -> Asegurar la integridad fisica, patrimonial y legal de las personas que transiten en las vialidades del municipio
A10: DATOS DEL INDICADOR
A12: Nombre | D12: =+MIR!H10 -> Tasa de variación anual porcentual de la Calificación de la percepción ciudadana del servicio de la policía municipal de Guaymas | P12: Dimensión a medir | Q12: Eficacia
A13: Interpretación | D13: Mide la variación anual de la calificación de la percepción ciudadana del servicio de la policía municipal de Guaymas
A14: Método de cálculo | D14: ((Calificación del servicio de policia período actual - Calificación del servicio de policia período anterior) / Calificación del servicio de policia período anterior) * 100 | P14: Frecuencia de medición | Q14: Anual
A15: Unidad de medida | D15: Tasa de variación | J15: Línea base | L15: NA | P15: Sentido del indicador | Q15: Ascendente
A16: Tipo de indicador | D16: Estratégico | J16: Nivel del objetivo de la MIR a que corresponde | P16: =+MIR!A10 -> Fin
A17: Descripción del Objetivo | D17: =+MIR!B10 -> Contribuir a garantizar la seguridad y protección física, patrimonial y legal en el municipio mediante la aplicación del reglamento de tránsito
A19: METAS DEL INDICADOR
A21: Variables del indicador | F21: U. de medida | H21: Tipo de operación | J21: Calendarización de metas | N21: Meta anual | P21: Observaciones
J22: Trimestre 1 | K22: Trimestre 2 | L22: Trimestre 3 | M22: Trimestre 4
A23: Calificación del servicio de policia período actual | F23: Calificación | H23: No acumulable | M23: 7.8 | N23: =SUM(J23:M23) -> 7.8 | P23: Cond datos del Programa de Seguridad Pública. La máxima calificacion posible es 10
A24: Calificación del servicio de policia período anterior | F24: Calificación | H24: No acumulable | M24: 5.8 | N24: =SUM(J24:M24) -> 5.8 | P24: Cond datos del Programa de Seguridad Pública. La máxima calificacion posible es 10
A25: Metas | F25: Porcentaje | M25: =+((M23-M24) /M24) * 100 -> 34.482759 | N25: =+((N23-N24) /N24) * 100 -> 34.482759

Sheet PROPOSITO
A1: FICHA TÉCNICA DE INDICADOR - EJERCICIO 2021
A3: IDENTIFICACIÓN DEL PROGRAMA
A5: Clave | B5: Nombre del Programa | J5: Eje Rector del PMD | O5: Unidad responsable (Dependencia u Organismo)
J6: Número | K6: Nombre | O6: Clave | P6: Nombre
A7: =+MIR!A5 -> 022 | B7: =+MIR!B5 -> TRANSITO MUNICIPAL | J7: =+MIR!J5 -> 01 | K7: =+MIR!K5 -> SEGURIDAD Y PROTECCIÓN PARA TODOS LOS CIUDADANOS | O7: =+MIR!O5 -> 11 | P7: =+MIR!P5 -> JEFATURA DE POLICIA PREVENTIVA Y TRANSITO MUNICIPAL
A8: Objetivo estratégico del Programa | F8: =+MIR!G6 -> Asegurar la integridad fisica, patrimonial y legal de las personas que transiten en las vialidades del municipio
A10: DATOS DEL INDICADOR
A12: Nombre | D12: =+MIR!H11 -> Tasa de variacion anual de accidentes viales | P12: Dimensión a medir | Q12: Eficacia
A13: Interpretación | D13: Mide la variación porcentual del número de accidentes comparado con el periodo anterior
A14: Método de cálculo | D14: ((Accidentes viales período actual - Accidentes viales período anterior) / Accidentes viales período anterior) * 100 | P14: Frecuencia de medición | Q14: Trimestral
A15: Unidad de medida | D15: Tasa de variación | J15: Línea base | L15: NA | P15: Sentido del indicador | Q15: Descendente
A16: Tipo de indicador | D16: Estratégico | J16: Nivel del objetivo de la MIR a que corresponde | P16: =+MIR!A11 -> Propósito = Programa
A17: Descripción del Objetivo | D17: =+MIR!B11 -> Los transeúntes se trasladan en las vialidades del municipio con facilidad y seguridad
A19: METAS DEL INDICADOR
A21: Variables del indicador | F21: U. de medida | H21: Tipo de operación | J21: Calendarización de metas | N21: Meta anual | P21: Observaciones
J22: Trimestre 1 | K22: Trimestre 2 | L22: Trimestre 3 | M22: Trimestre 4
A23: Accidentes viales período actual | F23: Accidentes | H23: No Acumulable | J23: 218 | K23: 132 | L23: 200 | M23: 197 | N23: =SUM(J23:M23) -> 747 | P23: 2021
A24: Accidentes viales período anterior | F24: Accidentes | H24: No Acumulable | J24: 221 | K24: 142 | L24: 284 | M24: 240 | N24: =SUM(J24:M24) -> 887 | P24: 2020
A25: Metas | F25: Tasa de variación | J25: =+(J23-J24)/J24*100 -> -1.3574661 | K25: =+(K23-K24)/K24*100 -> -7.0422535 | L25: =+(L23-L24)/L24*100 -> -29.577465 | M25: =+(M23-M24)/M24*100 -> -17.916667 | N25: =+(N23-N24)/N24*100 -> -15.78354 | O25: =+(O23-O24)/O24*100 -> #DIV/0!

Sheet COMPONENTE1
A1: FICHA TÉCNICA DE INDICADOR - EJERCICIO 2021
A3: IDENTIFICACIÓN DEL PROGRAMA
A5: Clave | B5: Nombre del Programa | J5: Eje Rector del PMD | O5: Unidad responsable (Dependencia u Organismo)
J6: Número | K6: Nombre | O6: Clave | P6: Nombre
A7: =+MIR!A5 -> 022 | B7: =+MIR!B5 -> TRANSITO MUNICIPAL | J7: =+MIR!J5 -> 01 | K7: =+MIR!K5 -> SEGURIDAD Y PROTECCIÓN PARA TODOS LOS CIUDADANOS | O7: =+MIR!O5 -> 11 | P7: =+MIR!P5 -> JEFATURA DE POLICIA PREVENTIVA Y TRANSITO MUNICIPAL
A8: Objetivo estratégico del Programa | F8: =+MIR!G6 -> Asegurar la integridad fisica, patrimonial y legal de las personas que transiten en las vialidades del municipio
A10: DATOS DEL INDICADOR
A12: Nombre | D12: =+MIR!H12 -> Tasa de variacion anual en aplicación de sanciones | P12: Dimensión a medir | Q12: Eficacia
A13: Interpretación | D13: Mide la variación porcentual del número de sanciones (multas) comparado con el periodo anterior
A14: Método de cálculo | D14: ((Sanciones (multas) período actual - sanciones (multas) período anterior) / sanciones (multas) período anterior) * 100 | P14: Frecuencia de medición | Q14: Trimestral
A15: Unidad de medida | D15: Tasa de variación anual | J15: Línea base | L15: NA | P15: Sentido del indicador | Q15: Ascendente
A16: Tipo de indicador | D16: Gestión | J16: Nivel del objetivo de la MIR a que corresponde | P16: =+MIR!A12 -> Componente 1
A17: Descripción del Objetivo | D17: =+MIR!B12 -> El reglamento de tránsito es difundido, implementado y acatado por los transeúntes de a pie y en vehículos
A19: METAS DEL INDICADOR
A21: Variables del indicador | F21: U. de medida | H21: Tipo de operación | J21: Calendarización de metas | N21: Meta anual | P21: Observaciones
J22: Trimestre 1 | K22: Trimestre 2 | L22: Trimestre 3 | M22: Trimestre 4
A23: Sanciones (multas) período actual | F23: Sanciones | H23: Acumulable | J23: 2585 | K23: 1800 | L23: 2580 | M23: 4000 | N23: =SUM(J23:M23) -> 10965 | P23: 2021
A24: Sanciones (multas) viales período anterior | F24: Sanciones | H24: Acumulable | J24: 2562 | K24: 921 | L24: 1408 | M24: 1649 | N24: =SUM(J24:M24) -> 6540 | P24: 2020
A25: Metas | F25: Porcentaje | J25: =+(J23-J24)/J24*100 -> 0.89773614 | K25: =+(K23-K24)/K24*100 -> 95.439739 | L25: =+(L23-L24)/L24*100 -> 83.238636 | M25: =+(M23-M24)/M24*100 -> 142.57126 | N25: =+(N23-N24)/N24*100 -> 67.66055

Sheet ACT 1.1
A1: FICHA TÉCNICA DE INDICADOR - EJERCICIO 2021
A3: IDENTIFICACIÓN DEL PROGRAMA
A5: Clave | B5: Nombre del Programa | J5: Eje Rector del PMD | O5: Unidad responsable (Dependencia u Organismo)
J6: Número | K6: Nombre | O6: Clave | P6: Nombre
A7: =+MIR!A5 -> 022 | B7: =+MIR!B5 -> TRANSITO MUNICIPAL | J7: =+MIR!J5 -> 01 | K7: =+MIR!K5 -> SEGURIDAD Y PROTECCIÓN PARA TODOS LOS CIUDADANOS | O7: =+MIR!O5 -> 11 | P7: =+MIR!P5 -> JEFATURA DE POLICIA PREVENTIVA Y TRANSITO MUNICIPAL
A8: Objetivo estratégico del Programa | F8: =+MIR!G6 -> Asegurar la integridad fisica, patrimonial y legal de las personas que transiten en las vialidades del municipio
A10: DATOS DEL INDICADOR
A12: Nombre | D12: =+MIR!H13 -> Porcentaje de Recorridos de vigilancia realizados para ordenar el transito de vehículos y peatones | P12: Dimensión a medir | Q12: Eficacia
A13: Interpretación | D13: Mide el Porcentaje alcanzado en la elaboración de los informes de recorridos de vigilancia para ordenar el tránsito de los transeuntes
A14: Método de cálculo | D14: (Informes realizados de los recorridos de vigilancia / Informes programados de los recorridos de vigilancia) * 100 | P14: Frecuencia de medición | Q14: Trimestral
A15: Unidad de medida | D15: Porcentaje | J15: Línea base | L15: NA | P15: Sentido del indicador | Q15: Ascendente
A16: Tipo de indicador | D16: Gestión | J16: Nivel del objetivo de la MIR a que corresponde | P16: =+MIR!A13 -> Actividad 1.1
A17: Descripción del Objetivo | D17: =+MIR!B13 -> Realizar recorridos de vigilancia para ordenar la circulación de transeúntes y vehículos, y reforzar el cumplimiento del reglamento de tránsito
A19: METAS DEL INDICADOR
A21: Variables del indicador | F21: U. de medida | H21: Tipo de operación | J21: Calendarización de metas | N21: Meta anual | P21: Observaciones
J22: Trimestre 1 | K22: Trimestre 2 | L22: Trimestre 3 | M22: Trimestre 4
A23: Informes realizados de los recorridos de vigilancia | F23: Informe de parte | H23: Acumulable | J23: 90 | K23: 91 | L23: 92 | M23: 92 | N23: =SUM(J23:M23) -> 365
A24: Informes programados de los recorridos de vigilancia | F24: Informe de parte | H24: Acumulable | J24: 90 | K24: 91 | L24: 92 | M24: 92 | N24: =SUM(J24:M24) -> 365
A25: Metas | F25: Porcentaje | J25: =+J23/J24*100 -> 100 | K25: =+K23/K24*100 -> 100 | L25: =+L23/L24*100 -> 100 | M25: =+M23/M24*100 -> 100 | N25: =+N23/N24*100 -> 100 | O25: =+O23/O24*100 -> #DIV/0!

Sheet ACT 1.2
A1: FICHA TÉCNICA DE INDICADOR - EJERCICIO 2021
A3: IDENTIFICACIÓN DEL PROGRAMA
A5: Clave | B5: Nombre del Programa | J5: Eje Rector del PMD | O5: Unidad responsable (Dependencia u Organismo)
J6: Número | K6: Nombre | O6: Clave | P6: Nombre
A7: =+MIR!A5 -> 022 | B7: =+MIR!B5 -> TRANSITO MUNICIPAL | J7: =+MIR!J5 -> 01 | K7: =+MIR!K5 -> SEGURIDAD Y PROTECCIÓN PARA TODOS LOS CIUDADANOS | O7: =+MIR!O5 -> 11 | P7: =+MIR!P5 -> JEFATURA DE POLICIA PREVENTIVA Y TRANSITO MUNICIPAL
A8: Objetivo estratégico del Programa | F8: =+MIR!G6 -> Asegurar la integridad fisica, patrimonial y legal de las personas que transiten en las vialidades del municipio
A10: DATOS DEL INDICADOR
A12: Nombre | D12: =+MIR!H14 -> Porcentaje de informes elaborados de sanciones aplicadas a infractores del reglamento de transito | P12: Dimensión a medir | Q12: Eficacia
A13: Interpretación | D13: Mide el Porcentaje alcanzado en la elaboración de los informes de sanciones aplicadas a los infractores del reglamento de tránsito
A14: Método de cálculo | D14: (Informes realizados de sanciones aplicadas a infractores / Informes programados de sanciones aplicadas a infractores ) * 100 | P14: Frecuencia de medición | Q14: Trimestral
A15: Unidad de medida | D15: Porcentaje | J15: Línea base | L15: NA | P15: Sentido del indicador | Q15: Ascendente
A16: Tipo de indicador | D16: Gestión | J16: Nivel del objetivo de la MIR a que corresponde | P16: =+MIR!A14 -> Actividad 1.2
A17: Descripción del Objetivo | D17: =+MIR!B14 -> Sancionar a los infractores ante el incumplimiento del reglamento de tránsito
A19: METAS DEL INDICADOR
A21: Variables del indicador | F21: U. de medida | H21: Tipo de operación | J21: Calendarización de metas | N21: Meta anual | P21: Observaciones
J22: Trimestre 1 | K22: Trimestre 2 | L22: Trimestre 3 | M22: Trimestre 4
A23: Informes realizados de las sanciones aplicadas a infractores | F23: Informe | H23: Acumulable | J23: 3 | K23: 3 | L23: 3 | M23: 3 | N23: =SUM(J23:M23) -> 12
A24: Informes programados de las sanciones aplicadas a infractores | F24: Informe | H24: Acumulable | J24: 3 | K24: 3 | L24: 3 | M24: 3 | N24: =SUM(J24:M24) -> 12
A25: Metas | F25: Porcentaje | J25: =+J23/J24*100 -> 100 | K25: =+K23/K24*100 -> 100 | L25: =+L23/L24*100 -> 100 | M25: =+M23/M24*100 -> 100 | N25: =+N23/N24*100 -> 100 | O25: =+O23/O24*100 -> #DIV/0!

Sheet ACT 1.3
A1: FICHA TÉCNICA DE INDICADOR - EJERCICIO 2021
A3: IDENTIFICACIÓN DEL PROGRAMA
A5: Clave | B5: Nombre del Programa | J5: Eje Rector del PMD | O5: Unidad responsable (Dependencia u Organismo)
J6: Número | K6: Nombre | O6: Clave | P6: Nombre
A7: =+MIR!A5 -> 022 | B7: =+MIR!B5 -> TRANSITO MUNICIPAL | J7: =+MIR!J5 -> 01 | K7: =+MIR!K5 -> SEGURIDAD Y PROTECCIÓN PARA TODOS LOS CIUDADANOS | O7: =+MIR!O5 -> 11 | P7: =+MIR!P5 -> JEFATURA DE POLICIA PREVENTIVA Y TRANSITO MUNICIPAL
A8: Objetivo estratégico del Programa | F8: =+MIR!G6 -> Asegurar la integridad fisica, patrimonial y legal de las personas que transiten en las vialidades del municipio
A10: DATOS DEL INDICADOR
A12: Nombre | D12: =+MIR!H15 -> Porcentaje de informes realizados de trabajos de balizamiento | P12: Dimensión a medir | Q12: Eficacia
A13: Interpretación | D13: Mide el Porcentaje alcanzado en la elaboración de los informes de los trabajos de balizamiento
A14: Método de cálculo | D14: (Informes realizados de los trabajos de balizamiento / Informes programados de los trabajos de balizamiento ) * 100 | P14: Frecuencia de medición | Q14: Trimestral
A15: Unidad de medida | D15: Porcentaje | J15: Línea base | L15: NA | P15: Sentido del indicador | Q15: Ascendente
A16: Tipo de indicador | D16: Gestión | J16: Nivel del objetivo de la MIR a que corresponde | P16: =+MIR!A15 -> Actividad 1.3
A17: Descripción del Objetivo | D17: =+MIR!B15 -> Realizar trabajos de balizamiento para dar certidumbre y facilidad del transito
A19: METAS DEL INDICADOR
A21: Variables del indicador | F21: U. de medida | H21: Tipo de operación | J21: Calendarización de metas | N21: Meta anual | P21: Observaciones
J22: Trimestre 1 | K22: Trimestre 2 | L22: Trimestre 3 | M22: Trimestre 4
A23: Informes realizados de los trabajos de balizamiento | F23: Informe | H23: Acumulable | J23: 3 | K23: 3 | L23: 3 | M23: 3 | N23: =SUM(J23:M23) -> 12
A24: Informes programados de los trabajos de balizamiento | F24: Informe | H24: Acumulable | J24: 3 | K24: 3 | L24: 3 | M24: 3 | N24: =SUM(J24:M24) -> 12
A25: Metas | F25: Porcentaje | J25: =+J23/J24*100 -> 100 | K25: =+K23/K24*100 -> 100 | L25: =+L23/L24*100 -> 100 | M25: =+M23/M24*100 -> 100 | N25: =+N23/N24*100 -> 100 | O25: =+O23/O24*100 -> #DIV/0!

Sheet ACT 1.4
A1: FICHA TÉCNICA DE INDICADOR - EJERCICIO 2021
A3: IDENTIFICACIÓN DEL PROGRAMA
A5: Clave | B5: Nombre del Programa | J5: Eje Rector del PMD | O5: Unidad responsable (Dependencia u Organismo)
J6: Número | K6: Nombre | O6: Clave | P6: Nombre
A7: =+MIR!A5 -> 022 | B7: =+MIR!B5 -> TRANSITO MUNICIPAL | J7: =+MIR!J5 -> 01 | K7: =+MIR!K5 -> SEGURIDAD Y PROTECCIÓN PARA TODOS LOS CIUDADANOS | O7: =+MIR!O5 -> 11 | P7: =+MIR!P5 -> JEFATURA DE POLICIA PREVENTIVA Y TRANSITO MUNICIPAL
A8: Objetivo estratégico del Programa | F8: =+MIR!G6 -> Asegurar la integridad fisica, patrimonial y legal de las personas que transiten en las vialidades del municipio
A10: DATOS DEL INDICADOR
A12: Nombre | D12: =+MIR!H16 -> Porcentaje de informes realizados de conservación de indicadores de tránsito | P12: Dimensión a medir | Q12: Eficacia
A13: Interpretación | D13: Mide el Porcentaje alcanzado en la elaboración de los informes de la conservación de indicadores de tránsito
A14: Método de cálculo | D14: (Informes realizados de la conservación de indicadores de tránsito / Informes programados de la conservación de indicadores de tránsito ) * 100 | P14: Frecuencia de medición | Q14: Trimestral
A15: Unidad de medida | D15: Porcentaje | J15: Línea base | L15: NA | P15: Sentido del indicador | Q15: Ascendente
A16: Tipo de indicador | D16: Gestión | J16: Nivel del objetivo de la MIR a que corresponde | P16: =+MIR!A16 -> Actividad 1.4
A17: Descripción del Objetivo | D17: =+MIR!B16 -> Colocación y conservación de indicadores de tránsito en calles y avenidas
A19: METAS DEL INDICADOR
A21: Variables del indicador | F21: U. de medida | H21: Tipo de operación | J21: Calendarización de metas | N21: Meta anual | P21: Observaciones
J22: Trimestre 1 | K22: Trimestre 2 | L22: Trimestre 3 | M22: Trimestre 4
A23: Informes realizados de la conservación de indicadores de tránsitos | F23: Informe | H23: Acumulable | J23: 3 | K23: 3 | L23: 3 | M23: 3 | N23: =SUM(J23:M23) -> 12
A24: Informes programados de la conservación de indicadores de tránsito | F24: Informe | H24: Acumulable | J24: 3 | K24: 3 | L24: 3 | M24: 3 | N24: =SUM(J24:M24) -> 12
A25: Metas | F25: Porcentaje | J25: =+J23/J24*100 -> 100 | K25: =+K23/K24*100 -> 100 | L25: =+L23/L24*100 -> 100 | M25: =+M23/M24*100 -> 100 | N25: =+N23/N24*100 -> 100 | O25: =+O23/O24*100 -> #DIV/0!

Sheet ACT 1.5
A1: FICHA TÉCNICA DE INDICADOR - EJERCICIO 2021
A3: IDENTIFICACIÓN DEL PROGRAMA
A5: Clave | B5: Nombre del Programa | J5: Eje Rector del PMD | O5: Unidad responsable (Dependencia u Organismo)
J6: Número | K6: Nombre | O6: Clave | P6: Nombre
A7: =+MIR!A5 -> 022 | B7: =+MIR!B5 -> TRANSITO MUNICIPAL | J7: =+MIR!J5 -> 01 | K7: =+MIR!K5 -> SEGURIDAD Y PROTECCIÓN PARA TODOS LOS CIUDADANOS | O7: =+MIR!O5 -> 11 | P7: =+MIR!P5 -> JEFATURA DE POLICIA PREVENTIVA Y TRANSITO MUNICIPAL
A8: Objetivo estratégico del Programa | F8: =+MIR!G6 -> Asegurar la integridad fisica, patrimonial y legal de las personas que transiten en las vialidades del municipio
A10: DATOS DEL INDICADOR
A12: Nombre | D12: =+MIR!H17 -> Porcentaje de informes realizados de la conservación de semaforos | P12: Dimensión a medir | Q12: Eficacia
A13: Interpretación | D13: Mide el Porcentaje alcanzado en la elaboración de los informes de la conservación de semáforos
A14: Método de cálculo | D14: (Informes realizados de la conservación de semáforos / Informes programados de la conservación de semáforos ) * 100 | P14: Frecuencia de medición | Q14: Trimestral
A15: Unidad de medida | D15: Porcentaje | J15: Línea base | L15: NA | P15: Sentido del indicador | Q15: Ascendente
A16: Tipo de indicador | D16: Gestión | J16: Nivel del objetivo de la MIR a que corresponde | P16: =+MIR!A17 -> Actividad 1.5
A17: Descripción del Objetivo | D17: =+MIR!B17 -> Conservación , instalación y mantenimiento de semaforos
A19: METAS DEL INDICADOR
A21: Variables del indicador | F21: U. de medida | H21: Tipo de operación | J21: Calendarización de metas | N21: Meta anual | P21: Observaciones
J22: Trimestre 1 | K22: Trimestre 2 | L22: Trimestre 3 | M22: Trimestre 4
A23: Informes realizados de la conservación de semáforos | F23: Informe | H23: Acumulable | J23: 3 | K23: 3 | L23: 3 | M23: 3 | N23: =SUM(J23:M23) -> 12
A24: Informes programados de la conservación de semáforos | F24: Informe | H24: Acumulable | J24: 3 | K24: 3 | L24: 3 | M24: 3 | N24: =SUM(J24:M24) -> 12
A25: Metas | F25: Porcentaje | J25: =+J23/J24*100 -> 100 | K25: =+K23/K24*100 -> 100 | L25: =+L23/L24*100 -> 100 | M25: =+M23/M24*100 -> 100 | N25: =+N23/N24*100 -> 100 | O25: =+O23/O24*100 -> #DIV/0!
